Workbook
Name __CON1: #REF!
Name __CON1: #REF!
Name __CON2: #REF!
Name __CON2: #REF!
Name _1: #REF!
Name _1: #REF!
Name _2: #REF!
Name _2: #REF!
Name _NET2: #REF!
Name _NET2: #REF!
Name A: #REF!
Name A: #REF!
Name a277Print_Titles: #REF!
Name a277Print_Titles: #REF!
Name BOQ: #REF!
Name BOQ: #REF!
Name BVCISUMMARY: #REF!
Name BVCISUMMARY: #REF!
Name Co: #REF!
Name Co: #REF!
Name COMMON: #REF!
Name COMMON: #REF!
Name CON_EQP_COS: #REF!
Name CON_EQP_COS: #REF!
Name COVER: #REF!
Name COVER: #REF!
Name CRITINST: #REF!
Name CRITINST: #REF!
Name CRITPURC: #REF!
Name CRITPURC: #REF!
Name CS_10: #REF!
Name CS_10: #REF!
Name CS_100: #REF!
Name CS_100: #REF!
Name CS_10S: #REF!
Name CS_10S: #REF!
Name CS_120: #REF!
Name CS_120: #REF!
Name CS_140: #REF!
Name CS_140: #REF!
Name CS_160: #REF!
Name CS_160: #REF!
Name CS_20: #REF!
Name CS_20: #REF!
Name CS_30: #REF!
Name CS_30: #REF!
Name CS_40: #REF!
Name CS_40: #REF!
Name CS_40S: #REF!
Name CS_40S: #REF!
Name CS_5S: #REF!
Name CS_5S: #REF!
Name CS_60: #REF!
Name CS_60: #REF!
Name CS_80: #REF!
Name CS_80: #REF!
Name CS_80S: #REF!
Name CS_80S: #REF!
Name CS_STD: #REF!
Name CS_STD: #REF!

Sheet BS6. tong hop so HS
B1: UBND THÀNH PHỐ HỒ CHÍ MINH | T1: CỘNG HÒA XÃ HỘI CHỦ NGHĨA VIỆT NAM
B2: TRƯỜNG CAO ĐẲNG KỸ THUẬT | T2: Độc lập - Tự do - Hạnh phúc
B3: LÝ TỰ TRỌNG TP. HỒ CHÍ MINH
A5: BÁO CÁO SỐ LIỆU SINH VIÊN NĂM 2017
A7: Stt | B7: Tên đơn vị | C7: Số liệu phân bổ đến ngày 30/6/2016 | M7: Số liệu báo cáo năm 2017 | Y7: Chênh lệch Tháng 12-Tháng 6
C8: Thực hiện năm 2015 | H8: Dự toán năm 2016 | M8: Thực hiện năm 2016 | R8: Dự toán năm 2017
C9: Số đầu năm | D9: Số tốt nghiệp | E9: Số chỉ tiêu tuyển mới | F9: Số thực tế tuyển mới | G9: Bình quân | H9: Số đầu năm | I9: Số tốt nghiệp + bỏ học | J9: Số chỉ tiêu tuyển mới | K9: Số thực tế tuyển mới | L9: Bình quân | M9: Số đầu năm | N9: Số tốt nghiệp | O9: Số chỉ tiêu tuyển mới | P9: Số thực tế tuyển mới | Q9: Bình quân | R9: Số đầu năm | S9: Số tốt nghiệp + bỏ học | T9: Số chỉ tiêu tuyển mới | U9: Số thực tế tuyển mới | V9: Bình quân | W9: Quyết định giao chỉ tiêu tuyển sinh NH 2017-2018 (Số QĐ../ngày..) | X9: Ghi chú khóa học ra trường | Y9: Số HS | Z9: Mức chi hoạt động bình quân | AA9: Kinh phí dự kiến điều chỉnh
C10: 2 | D10: 3 | E10: 4 | F10: 5 | G10: 6=2-3/4 +5/4 | H10: 7=2-3+ min(4;5) | I10: 8 | J10: 9 | L10: 10=7-8/4 +9/4 | M10: 2 | N10: 3 | O10: 4 | P10: 5 | Q10: 6=2-3/4 +5/4 | R10: 7=2-3+ min(4;5) | S10: 8 | T10: 9 | U10: 10 | V10: 11=7-8/4 + min(9;10)/4 | W10: 12 | X10: 13 | Y10: 14 | Z10: 15 | AA10: 16=14*15
B11: I . TRUNG CẤP | C11: =C12+C15+C18+C21 -> 9565 | D11: =D12+D15+D18+D21 -> 2989 | E11: =E12+E15+E18+E21 -> 6630 | F11: =F12+F15+F18+F21 -> 4596 | G11: =G12+G15+G18+G21 -> 9966.75 | H11: =H12+H15+H18+H21 -> 11030 | I11: =I12+I15+I18+I21 -> 2369 | J11: =J12+J15+J18+J21 -> 5530 | ... L11: =L12+L15+L18+L21 -> 11821
A12: 1 | B12: THKT NG HỮU CẢNH | C12: =SUM(C13:C13) -> 1751 | D12: =SUM(D13:D13) -> 419 | E12: =SUM(E13:E13) -> 1530 | F12: =SUM(F13:F13) -> 1106 | G12: =SUM(G13:G13) -> 1922.75 | H12: =SUM(H13:H13) -> 2438 | I12: =SUM(I13:I13) -> 444 | J12: =SUM(J13:J13) -> 1080 | ... L12: =SUM(L13:L13) -> 2597 | X12: - Trung cấp: khóa 14 trở về trước
B13: * Hệ THCN | C13: 1751 | D13: 419 | E13: 1530 | F13: 1106 | G13: =C13-D13/4+F13/4 -> 1922.75 | H13: =C13-D13+MIN(E13,F13) -> 2438 | I13: 444 | J13: 1080 | L13: =ROUND(H13-I13/4+J13/4,0) -> 2597
A15: 2 | B15: THKTNV NAM SÀI GÒN | C15: =SUM(C16:C16) -> 6749 | D15: =SUM(D16:D16) -> 2550 | E15: =SUM(E16:E16) -> 2950 | F15: =SUM(F16:F16) -> 2177 | G15: =SUM(G16:G16) -> 6655.75 | H15: =SUM(H16:H16) -> 6376 | I15: =SUM(I16:I16) -> 1800 | J15: =SUM(J16:J16) -> 2750 | ... L15: =SUM(L16:L16) -> 6614
B16: * Hệ THCN | C16: 6749 | D16: 2550 | E16: 2950 | F16: 2177 | G16: =C16-D16/4+F16/4 -> 6655.75 | H16: =C16-D16+MIN(E16,F16) -> 6376 | I16: 1800 | J16: 2750 | L16: =ROUND(H16-I16/4+J16/4,0) -> 6614
A18: 3 | B18: TCKTKT QUẬN 12 | C18: =C19 -> 756 | D18: =D19 -> 16 | E18: =E19 -> 1150 | F18: =F19 -> 962 | G18: =G19 -> 992.5 | H18: =H19 -> 1710 | I18: =I19 -> 113 | J18: =J19 -> 1200 | ... L18: =L19 -> 1982
B19: * Hệ THCN | C19: 756 | D19: 16 | E19: 1150 | F19: 962 | G19: =C19-D19/4+F19/4 -> 992.5 | H19: =1692+18 -> 1710 | I19: 113 | J19: 1200 | K19: 1150 | L19: =ROUND(H19-I19/4+J19/4,0) -> 1982
A21: 4 | B21: TCKTKT HÓC MÔN | C21: =C22 -> 309 | D21: =D22 -> 4 | E21: =E22 -> 1000 | F21: =F22 -> 351 | G21: =G22 -> 395.75 | H21: 506 | I21: =I22 -> 12 | J21: =J22 -> 500 | K21: =K22 -> 1000 | L21: =L22 -> 628
B22: * Hệ THCN | C22: 309 | D22: 4 | E22: 1000 | F22: 351 | G22: =C22-D22/4+F22/4 -> 395.75 | H22: 506 | I22: 12 | J22: 500 | K22: 1000 | L22: =ROUND(H22-I22/4+J22/4,0) -> 628
A24: 5 | B24: Dự phòng
B25: II. CAO ĐẲNG (KHOẢN 501) | C25: =C33+C38+C43+C49 -> 21436 | D25: =D33+D38+D43+D49 -> 6156 | E25: =E33+E38+E43+E49 -> 10550 | F25: =F33+F38+F43+F49 -> 10622 | G25: =G33+G38+G43+G49 -> 22552.5 | H25: =H33+H38+H43+H49 -> 24123 | I25: =I33+I38+I43+I49 -> 8267 | J25: =J33+J38+J43+J49 -> 12900 | ... L25: =L33+L38+L43+L49 -> 25246
B26: Hệ Cao đẳng | C26: =C27+C28 -> 14279 | D26: =D27+D28 -> 3945 | E26: =E27+E28 -> 7800 | F26: =F27+F28 -> 8208 | G26: =G27+G28 -> 15344.75 | H26: =H27+H28 -> 17275 | I26: =I27+I28 -> 5249 | J26: =J27+J28 -> 10100 | ... L26: =L27+L28 -> 18488
B27: - Hệ Cao đẳng | C27: =C34+C39+C44+C50 -> 13960 | D27: =D34+D39+D44+D50 -> 3858 | E27: =E34+E39+E44+E50 -> 7650 | F27: =F34+F39+F44+F50 -> 8058 | G27: =G34+G39+G44+G50 -> 15010 | H27: =H34+H39+H44+H50 -> 17275 | I27: =I34+I39+I44+I50 -> 5249 | J27: =J34+J39+J44+J50 -> 10100 | ... L27: =L34+L39+L44+L50 -> 18488
B28: - Hệ C.Đ Liên thông | C28: =C35+C40+C46+C51 -> 319 | D28: =D35+D40+D46+D51 -> 87 | E28: =E35+E40+E46+E51 -> 150 | F28: =F35+F40+F46+F51 -> 150 | G28: =G35+G40+G46+G51 -> 334.75 | H28: =H35+H40+H46+H51 -> 0 | I28: =I35+I40+I46+I51 -> 0 | J28: =J35+J40+J46+J51 -> 0 | ... L28: =L35+L40+L46+L51 -> 0
B29: * Hệ THCN | C29: =C36+C41+C45+C52 -> 5810 | D29: =D36+D41+D45+D52 -> 1785 | E29: =E36+E41+E45+E52 -> 2750 | F29: =F36+F41+F45+F52 -> 2414 | G29: =G36+G41+G45+G52 -> 5967.25 | H29: =H36+H41+H45+H52 -> 6011 | I29: =I36+I41+I45+I52 -> 2585 | J29: =J36+J41+J45+J52 -> 2800 | ... L29: =L36+L41+L45+L52 -> 6065
B30: * Khối THPT | C30: =C37+C42+C47+#REF! -> #REF! | D30: =D37+D42+D47+#REF! -> #REF! | E30: =E37+E42+E47+#REF! -> #REF! | F30: =F37+F42+F47+#REF! -> #REF! | G30: =G37+G42+G47+#REF! -> #REF! | H30: =H37+H42+H47+#REF! -> #REF! | I30: =I37+I42+I47+#REF! -> #REF! | J30: =J37+J42+J47+#REF! -> #REF! | ... L30: =L37+L42+L47+#REF! -> #REF!
B31: - CĐ nghề | C31: =#REF! -> #REF! | D31: =#REF! -> #REF! | E31: =#REF! -> #REF! | F31: =#REF! -> #REF! | G31: =#REF! -> #REF! | H31: =#REF! -> #REF! | I31: =#REF! -> #REF! | J31: =#REF! -> #REF! | ... L31: =#REF! -> #REF!
B32: - TC nghề | C32: =#REF! -> #REF! | D32: =#REF! -> #REF! | E32: =#REF! -> #REF! | F32: =#REF! -> #REF! | G32: =#REF! -> #REF! | H32: =#REF! -> #REF! | I32: =#REF! -> #REF! | J32: =#REF! -> #REF! | ... L32: =#REF! -> #REF!
A33: 1 | B33: CĐKTKT TP.HCM | C33: =SUM(C34:C36) -> 4938 | D33: =SUM(D34:D36) -> 1226 | E33: =SUM(E34:E36) -> 2500 | F33: =SUM(F34:F36) -> 2438 | G33: =SUM(G34:G36) -> 5241 | H33: =SUM(H34:H36) -> 6119 | I33: =SUM(I34:I36) -> 2199 | J33: =SUM(J34:J36) -> 3000 | ... L33: =SUM(L34:L36) -> 6320
B34: * Hệ Cao đẳng | C34: 2380 | D34: 722 | E34: 1350 | F34: 1257 | G34: =C34-D34/4+F34/4 -> 2513.75 | H34: 3297 | I34: 1458 | J34: 1800 | L34: =ROUND(H34-I34/4+J34/4,0) -> 3383
B35: * Hệ C.Đ Liên thông | C35: 319 | D35: 87 | E35: 150 | F35: 150 | G35: =C35-D35/4+F35/4 -> 334.75
B36: * Hệ THCN | C36: 2239 | D36: 417 | E36: 1000 | F36: 1031 | G36: =C36-D36/4+F36/4 -> 2392.5 | H36: =C36-D36+MIN(E36,F36) -> 2822 | I36: 741 | J36: 1200 | L36: =ROUND(H36-I36/4+J36/4,0) -> 2937
A38: 2 | B38: CĐ KINH TẾ | C38: =SUM(C39:C41) -> 3484 | D38: =SUM(D39:D41) -> 805 | E38: =SUM(E39:E41) -> 1550 | F38: =SUM(F39:F41) -> 1578 | G38: =SUM(G39:G41) -> 3677.25 | H38: =SUM(H39:H41) -> 3603 | I38: =SUM(I39:I41) -> 925 | J38: =SUM(J39:J41) -> 1700 | ... L38: =SUM(L39:L41) -> 3797
B39: * Hệ Cao đẳng | C39: 3024 | D39: 707 | E39: 1300 | F39: 1404 | G39: =C39-D39/4+F39/4 -> 3198.25 | H39: 3246 | I39: 745 | J39: 1500 | L39: =ROUND(H39-I39/4+J39/4,0) -> 3435
B40: * Hệ C.Đ Liên thông | G40: =C40-D40/4+F40/4 -> 0 | H40: =C40-D40+MIN(E40,F40) -> 0 | L40: =ROUND(H40-I40/4+J40/4,0) -> 0
B41: * Hệ THCN | C41: 460 | D41: 98 | E41: 250 | F41: 174 | G41: =C41-D41/4+F41/4 -> 479 | H41: 357 | I41: 180 | J41: 200 | L41: =ROUND(H41-I41/4+J41/4,0) -> 362
A43: 3 | B43: CĐKT LÝ TỰ TRỌNG | C43: =SUM(C44:C47) -> 4309 | D43: =SUM(D44:D47) -> 1275 | E43: =SUM(E44:E47) -> 3300 | F43: =SUM(F44:F47) -> 3037 | G43: =SUM(G44:G47) -> 4749.5 | H43: =SUM(H44:H47) -> 5346 | I43: =SUM(I44:I47) -> 1524 | J43: =SUM(J44:J47) -> 4800 | ... V43: =SUM(V44:V47) -> 9236
B44: * Hệ Cao đẳng | C44: 2411 | D44: 641 | E44: 2500 | F44: 2615 | G44: =C44-D44/4+F44/4 -> 2904.5 | H44: =3827+48 -> 3875 | I44: 879 | J44: 4000 | L44: =ROUND(H44-I44/4+J44/4,0) -> 4655 | M44: 4196 | N44: 937 | O44: 4020 | P44: ='thong ke chi tiet sp lieu HSSV'!E235 -> 2719 | Q44: =M44-N44/4+P44/4 -> 4641.5 | R44: =M44-N44+MIN(O44,P44) -> 5978 | S44: ='thong ke chi tiet sp lieu HSSV'!E232+'thong ke chi tiet sp lieu HSSV'!E233+'thong ke chi tiet sp lieu HSSV'!E234-'thong ke chi tiet sp lieu HSSV'!P234+'thong ke chi tiet sp lieu HSSV'!E235-'thong ke chi tiet sp lieu HSSV'!P235 -> 1287 | T44: 3410 | U44: ='thong ke chi tiet sp lieu HSSV'!P236 -> 3010 | V44: =R44-S44/4+MIN(T44:U44)/4 -> 6408.75
B45: * Hệ TCCN | C45: 551 | D45: 208 | E45: 800 | F45: 422 | G45: =C45-D45/4+F45/4 -> 604.5 | H45: 634 | I45: 212 | J45: 800 | L45: =ROUND(H45-I45/4+J45/4,0) -> 781 | M45: 1274 | N45: 259 | O45: 1440 | P45: ='thong ke chi tiet sp lieu HSSV'!E241 -> 1135 | Q45: =M45-N45/4+P45/4 -> 1493 | R45: =M45-N45+MIN(O45,P45) -> 2150 | S45: ='thong ke chi tiet sp lieu HSSV'!E238+'thong ke chi tiet sp lieu HSSV'!E239+('thong ke chi tiet sp lieu HSSV'!E240-'thong ke chi tiet sp lieu HSSV'!P240)+('thong ke chi tiet sp lieu HSSV'!E241-'thong ke chi tiet sp lieu HSSV'!P241) -> 499 | T45: 2050 | U45: ='thong ke chi tiet sp lieu HSSV'!P242 -> 1720 | V45: =R45-S45/4+MIN(T45:U45)/4 -> 2455.25
B46: * Hệ C.Đ Liên thông | E46: 0 | F46: 0 | G46: =C46-D46/4+F46/4 -> 0 | H46: =C46-D46+MIN(E46,F46) -> 0 | J46: =E46 -> 0 | L46: =ROUND(H46-I46/4+J46/4,0) -> 0 | M46: 48 | O46: 200 | P46: ='thong ke chi tiet sp lieu HSSV'!E245 -> 74 | Q46: =M46-N46/4+P46/4 -> 66.5 | R46: =M46-N46+MIN(O46,P46) -> 122 | S46: ='thong ke chi tiet sp lieu HSSV'!E244+('thong ke chi tiet sp lieu HSSV'!E245-'thong ke chi tiet sp lieu HSSV'!P245) -> 72 | T46: 200 | U46: ='thong ke chi tiet sp lieu HSSV'!P246 -> 130 | V46: =R46-S46/4+MIN(T46:U46)/4 -> 136.5
B47: * Khối THPT | C47: 1347 | D47: 426 | E47: 0 | F47: 0 | G47: =C47-D47/4+F47/4 -> 1240.5 | H47: 837 | I47: 433 | J47: =E47 -> 0 | L47: =ROUND((H47*8+(H47-I47)*4)/12,0) -> 693 | M47: 921 | N47: 421 | Q47: =M47-N47/4+P47/4 -> 815.75 | R47: 314 | S47: 314 | T47: 0 | U47: 0 | V47: =R47-S47/4+MIN(T47:U47)/4 -> 235.5
A49: 4 | B49: CĐ CN THỦ ĐỨC | C49: =SUM(C50:C52) -> 8705 | D49: =SUM(D50:D52) -> 2850 | E49: =SUM(E50:E52) -> 3200 | F49: =SUM(F50:F52) -> 3569 | G49: =SUM(G50:G52) -> 8884.75 | H49: =SUM(H50:H52) -> 9055 | I49: =SUM(I50:I52) -> 3619 | J49: =SUM(J50:J52) -> 3400 | ... L49: =SUM(L50:L52) -> 9000
...

Sheet thong ke chi tiet sp lieu HSSV
A1: UBND THÀNH PHỐ HỒ CHÍ MINH | I1: CỘNG HÒA XÃ HỘI CHỦ NGHĨA VIỆT NAM
A2: TRƯỜNG CAO ĐẲNG KỸ THUẬT | I2: Độc lập - Tự do - Hạnh phúc
A3: LÝ TỰ TRỌNG TP. HỒ CHÍ MINH
A5: THỐNG KÊ CHI TIẾT SỐ LƯỢNG HỌC SINH SINH VIÊN THEO TỪNG THÁNG NĂM 2017 THEO KHOA
A7: S TT | B7: Ngành nghề | C7: Tên lớp | D7: hệ | E7: THÁNG
E8: 01/2017 | F8: 02/2017 | G8: 03/2017 | H8: 04/2017 | I8: 05/2017 | J8: 06/2017 | K8: 07/2017 | L8: 08/2017 | M8: 09/2017 | N8: 10/2017 | O8: 11/2017 | P8: 12/2017
A9: 1 | B9: KHOA KINH TẾ | C9: 15TCN-KTD | D9: =LEFT(C9,FIND("-",C9,1)-1) -> 15TCN | E9: =VLOOKUP(C9,'[1]Chi tiet theo khoa'!$C$8:$O$205,13,0) -> 33 | F9: 33 | G9: 33 | H9: 33 | I9: 33 | J9: 33 | K9: 33 | L9: 33 | M9: 33 | N9: 33 | O9: 33 | P9: 33
C10: 15CĐN-QTD | D10: =LEFT(C10,FIND("-",C10,1)-1) -> 15CĐN | E10: =VLOOKUP(C10,'[1]Chi tiet theo khoa'!$C$8:$O$205,13,0) -> 14 | F10: 14 | G10: 14 | H10: =VLOOKUP(C10,'[2]TK.HSSV_T_N(10-5-17)'!$C$9:$H$229,6,0) -> 14 | I10: 14 | J10: 14 | K10: 14 | L10: 14 | M10: 14 | N10: 14 | O10: 14 | P10: 14
C11: 16CĐN-QTD | D11: =LEFT(C11,FIND("-",C11,1)-1) -> 16CĐN | E11: =VLOOKUP(C11,'[1]Chi tiet theo khoa'!$C$8:$O$205,13,0) -> 45 | F11: 45 | G11: 45 | H11: =VLOOKUP(C11,'[2]TK.HSSV_T_N(10-5-17)'!$C$9:$H$229,6,0) -> 47 | I11: 47 | J11: 47 | K11: 47 | L11: 47 | M11: 47 | N11: 47 | O11: 47 | P11: 47
C12: 16TCN-KTD | D12: =LEFT(C12,FIND("-",C12,1)-1) -> 16TCN | E12: =VLOOKUP(C12,'[1]Chi tiet theo khoa'!$C$8:$O$205,13,0) -> 45 | F12: 45 | G12: 45 | H12: 45 | I12: 45 | J12: 45 | K12: 45 | L12: 45 | M12: 45 | N12: 45 | O12: 45 | P12: 45
C13: 16TCN-QTD | D13: =LEFT(C13,FIND("-",C13,1)-1) -> 16TCN | E13: =VLOOKUP(C13,'[1]Chi tiet theo khoa'!$C$8:$O$205,13,0) -> 53 | F13: 53 | G13: 53 | H13: 53 | I13: 53 | J13: 53 | K13: 53 | L13: 53 | M13: 53 | N13: 53 | O13: 53 | P13: 53
C14: 17TCN | D14: 17TCN | E14: 0 | F14: 0 | G14: 0 | H14: =VLOOKUP(C14,'[2]TK.HSSV_T_N(10-5-17)'!$C$9:$H$229,6,0) -> 0 | I14: 0 | J14: 0 | K14: 0 | L14: 0 | M14: 100 | N14: 100 | O14: 100 | P14: 100
C15: 17CĐN | D15: =C15 -> 17CĐN | E15: 0 | F15: 0 | G15: 0 | H15: =VLOOKUP(C15,'[2]TK.HSSV_T_N(10-5-17)'!$C$9:$H$229,6,0) -> 0 | I15: 0 | J15: 0 | K15: 0 | L15: 0 | M15: 50 | N15: 50 | O15: 50 | P15: 50
C16: Tổng khoa | E16: =SUM(E9:E14) -> 190 | F16: =SUM(F9:F13) -> 190 | G16: =SUM(G9:G13) -> 190 | H16: =SUM(H9:H13) -> 192 | I16: =SUM(I9:I13) -> 192 | J16: =SUM(J9:J13) -> 192 | K16: =SUM(K9:K13) -> 192 | L16: =SUM(L9:L13) -> 192 | M16: =SUM(M9:M15) -> 342 | N16: =SUM(N9:N15) -> 342 | O16: =SUM(O9:O15) -> 342 | P16: =SUM(P9:P15) -> 342
A17: 2 | B17: KHOA CÔNG NGHỆ THÔNG TIN | C17: 13CĐ-TM1 | D17: 13CÐ | E17: =VLOOKUP(C17,'[1]Chi tiet theo khoa'!$C$8:$O$205,13,0) -> 7 | F17: 7 | G17: 7 | H17: 6 | I17: 6 | J17: 6 | K17: 6 | L17: 6 | M17: 0 | N17: 0 | O17: 0 | P17: 0
C18: 13CĐ-TM2 | D18: 13CÐ | E18: =VLOOKUP(C18,'[1]Chi tiet theo khoa'!$C$8:$O$205,13,0) -> 11 | F18: 9 | G18: 8 | H18: 6 | I18: 6 | J18: 6 | K18: 6 | L18: 6 | M18: 0 | N18: 0 | O18: 0 | P18: 0
C19: 13CĐ-TP1 | D19: 13CÐ | E19: =VLOOKUP(C19,'[1]Chi tiet theo khoa'!$C$8:$O$205,13,0) -> 7 | F19: 7 | G19: 7 | H19: 6 | I19: 6 | J19: 6 | K19: 6 | L19: 6 | M19: 0 | N19: 0 | O19: 0 | P19: 0
C20: 13CĐ-TP2 | D20: 13CÐ | E20: =VLOOKUP(C20,'[1]Chi tiet theo khoa'!$C$8:$O$205,13,0) -> 11 | F20: 11 | G20: 11 | H20: 10 | I20: 10 | J20: 10 | K20: 10 | L20: 10 | M20: 0 | N20: 0 | O20: 0 | P20: 0
C21: 13TC-QTM | D21: =LEFT(C21,FIND("-",C21,1)-1) -> 13TC | E21: =VLOOKUP(C21,'[1]Chi tiet theo khoa'!$C$8:$O$205,13,0) -> 12 | F21: 12 | G21: 12 | H21: =VLOOKUP(C21,'[2]TK.HSSV_T_N(10-5-17)'!$C$9:$H$229,6,0) -> 12 | I21: 12 | J21: 12 | K21: 12 | L21: 12 | M21: 0 | N21: 0 | O21: 0 | P21: 0
C22: 14CĐ-TM1 | D22: 14CĐ | E22: =VLOOKUP(C22,'[1]Chi tiet theo khoa'!$C$8:$O$205,13,0) -> 40 | F22: 35 | G22: 28 | H22: =VLOOKUP(C22,'[2]TK.HSSV_T_N(10-5-17)'!$C$9:$H$229,6,0) -> 21 | I22: 21 | J22: 21 | K22: 21 | L22: 21 | M22: 0 | N22: 0 | O22: 0 | P22: 0
C23: 14CĐ-TP1 | D23: 14CĐ | E23: =VLOOKUP(C23,'[1]Chi tiet theo khoa'!$C$8:$O$205,13,0) -> 70 | F23: 64 | G23: 60 | H23: =VLOOKUP(C23,'[2]TK.HSSV_T_N(10-5-17)'!$C$9:$H$229,6,0) -> 54 | I23: 54 | J23: 54 | K23: 54 | L23: 54 | M23: 0 | N23: 0 | O23: 0 | P23: 0
C24: 14TCQT01 | D24: =LEFT(C24,4) -> 14TC | E24: =VLOOKUP(C24,'[1]Chi tiet theo khoa'!$C$8:$O$205,13,0) -> 28 | F24: 20 | G24: 15 | H24: =VLOOKUP(C24,'[2]TK.HSSV_T_N(10-5-17)'!$C$9:$H$229,6,0) -> 9 | I24: 9 | J24: 9 | K24: 9 | L24: 9 | M24: 0 | N24: 0 | O24: 0 | P24: 0
C25: 15CĐ-TP1 | D25: =LEFT(C25,FIND("-",C25,1)-1) -> 15CĐ | E25: =VLOOKUP(C25,'[1]Chi tiet theo khoa'!$C$8:$O$205,13,0) -> 56 | F25: 56 | G25: 56 | H25: 56 | I25: 56 | J25: 56 | K25: 56 | L25: 56 | M25: 56 | N25: 56 | O25: 56 | P25: 56
C26: 15CĐ-TP2 | D26: =LEFT(C26,FIND("-",C26,1)-1) -> 15CĐ | E26: =VLOOKUP(C26,'[1]Chi tiet theo khoa'!$C$8:$O$205,13,0) -> 60 | F26: 60 | G26: 60 | H26: 60 | I26: 60 | J26: 60 | K26: 60 | L26: 60 | M26: 60 | N26: 60 | O26: 60 | P26: 60
C27: 15CĐ-TP3 | D27: =LEFT(C27,FIND("-",C27,1)-1) -> 15CĐ | E27: =VLOOKUP(C27,'[1]Chi tiet theo khoa'!$C$8:$O$205,13,0) -> 58 | F27: 58 | G27: 58 | H27: 58 | I27: 58 | J27: 58 | K27: 58 | L27: 58 | M27: 58 | N27: 58 | O27: 58 | P27: 58
C28: 15CĐ-TM1 | D28: =LEFT(C28,FIND("-",C28,1)-1) -> 15CĐ | E28: =VLOOKUP(C28,'[1]Chi tiet theo khoa'!$C$8:$O$205,13,0) -> 64 | F28: 64 | G28: 64 | H28: 64 | I28: 64 | J28: 64 | K28: 64 | L28: 64 | M28: 64 | N28: 64 | O28: 64 | P28: 64
C29: 15CĐ-TM2 | D29: =LEFT(C29,FIND("-",C29,1)-1) -> 15CĐ | E29: =VLOOKUP(C29,'[1]Chi tiet theo khoa'!$C$8:$O$205,13,0) -> 70 | F29: 70 | G29: 70 | H29: 70 | I29: 70 | J29: 70 | K29: 70 | L29: 70 | M29: 70 | N29: 70 | O29: 70 | P29: 70
C30: 15CĐ-TW | D30: =LEFT(C30,FIND("-",C30,1)-1) -> 15CĐ | E30: =VLOOKUP(C30,'[1]Chi tiet theo khoa'!$C$8:$O$205,13,0) -> 67 | F30: 67 | G30: 67 | H30: 67 | I30: 67 | J30: 67 | K30: 67 | L30: 67 | M30: 67 | N30: 67 | O30: 67 | P30: 67
C31: 15TCT-QTM | D31: =LEFT(C31,FIND("-",C31,1)-1) -> 15TCT | E31: =5+VLOOKUP(C31,'[1]Chi tiet theo khoa'!$C$8:$O$205,13,0) -> 16 | F31: 16 | G31: 16 | H31: 16 | I31: 16 | J31: 16 | K31: 16 | L31: 0 | M31: 0 | N31: 0 | O31: 0 | P31: 0
C32: 15TC-QTM | D32: =LEFT(C32,FIND("-",C32,1)-1) -> 15TC | E32: =VLOOKUP(C32,'[1]Chi tiet theo khoa'!$C$8:$O$205,13,0) -> 16 | F32: 16 | G32: 16 | H32: 16 | I32: 16 | J32: 16 | K32: 16 | L32: 16 | M32: 16 | N32: 16 | O32: 16 | P32: 16
C33: 15TCN-QTM1 | D33: =LEFT(C33,FIND("-",C33,1)-1) -> 15TCN | E33: =VLOOKUP(C33,'[1]Chi tiet theo khoa'!$C$8:$O$205,13,0) -> 61 | F33: 61 | G33: 61 | H33: 61 | I33: 61 | J33: 61 | K33: 61 | L33: 61 | M33: 61 | N33: 61 | O33: 61 | P33: 61
C34: 15TCN-QTM2 | D34: =LEFT(C34,FIND("-",C34,1)-1) -> 15TCN | E34: =VLOOKUP(C34,'[1]Chi tiet theo khoa'!$C$8:$O$205,13,0) -> 62 | F34: 62 | G34: 62 | H34: 62 | I34: 62 | J34: 62 | K34: 62 | L34: 62 | M34: 62 | N34: 62 | O34: 62 | P34: 62
C35: 16CĐ-CNTT1 | D35: =LEFT(C35,FIND("-",C35,1)-1) -> 16CĐ | E35: 64 | F35: 64 | G35: 60 | H35: 58 | I35: 58 | J35: 58 | K35: 58 | L35: 58 | M35: 58 | N35: 58 | O35: 58 | P35: 58
C36: 16CĐ-CNTT2 | D36: =LEFT(C36,FIND("-",C36,1)-1) -> 16CĐ | E36: =VLOOKUP(C36,'[1]Chi tiet theo khoa'!$C$8:$O$205,13,0) -> 64 | F36: 64 | G36: 60 | H36: 60 | I36: 60 | J36: 60 | K36: 60 | L36: 60 | M36: 60 | N36: 60 | O36: 60 | P36: 60
B37: KHOA CÔNG NGHỆ THÔNG TIN | C37: 16CĐ-CNTT3 | D37: =LEFT(C37,FIND("-",C37,1)-1) -> 16CĐ | E37: =VLOOKUP(C37,'[1]Chi tiet theo khoa'!$C$8:$O$205,13,0) -> 63 | F37: 63 | G37: 61 | H37: 59 | I37: 59 | J37: 59 | K37: 59 | L37: 59 | M37: 59 | N37: 59 | O37: 59 | P37: 59
C38: 16CĐ-CNTT4 | D38: =LEFT(C38,FIND("-",C38,1)-1) -> 16CĐ | E38: =VLOOKUP(C38,'[1]Chi tiet theo khoa'!$C$8:$O$205,13,0) -> 63 | F38: 63 | G38: 61 | H38: 59 | I38: 59 | J38: 59 | K38: 59 | L38: 59 | M38: 59 | N38: 59 | O38: 59 | P38: 59
C39: 16CĐ-CNTT5 | D39: =LEFT(C39,FIND("-",C39,1)-1) -> 16CĐ | E39: =VLOOKUP(C39,'[1]Chi tiet theo khoa'!$C$8:$O$205,13,0) -> 64 | F39: 62 | G39: 62 | H39: 59 | I39: 59 | J39: 59 | K39: 59 | L39: 59 | M39: 59 | N39: 59 | O39: 59 | P39: 59
C40: 16TCT-QTM | D40: =LEFT(C40,FIND("-",C40,1)-1) -> 16TCT | E40: =4+VLOOKUP(C40,'[1]Chi tiet theo khoa'!$C$8:$O$205,13,0) -> 71 | F40: 71 | G40: 71 | H40: =VLOOKUP(C40,'[2]TK.HSSV_T_N(10-5-17)'!$C$9:$H$229,6,0) -> 67 | I40: 67 | J40: 67 | K40: 67 | L40: 67 | M40: 67 | N40: 67 | O40: 67 | P40: 67
C41: 16TC-QTM | D41: =LEFT(C41,FIND("-",C41,1)-1) -> 16TC | E41: =VLOOKUP(C41,'[1]Chi tiet theo khoa'!$C$8:$O$205,13,0) -> 61 | F41: 61 | G41: 61 | H41: =VLOOKUP(C41,'[2]TK.HSSV_T_N(10-5-17)'!$C$9:$H$229,6,0)-3 -> 58 | I41: 58 | J41: 58 | K41: 58 | L41: 58 | M41: 58 | N41: 58 | O41: 58 | P41: 58
C42: 16TCN-QTM1 | D42: =LEFT(C42,FIND("-",C42,1)-1) -> 16TCN | E42: =VLOOKUP(C42,'[1]Chi tiet theo khoa'!$C$8:$O$205,13,0) -> 50 | F42: 50 | G42: 50 | H42: 50 | I42: 50 | J42: 50 | K42: 50 | L42: 50 | M42: 50 | N42: 50 | O42: 50 | P42: 50
...
