Workbook
Name __CON1: #REF!
Name __CON1: #REF!
Name __CON2: #REF!
Name __CON2: #REF!
Name _1: #REF!
Name _1: #REF!
Name _2: #REF!
Name _2: #REF!
Name _NET2: #REF!
Name _NET2: #REF!
Name A: #REF!
Name A: #REF!
Name a277Print_Titles: #REF!
Name a277Print_Titles: #REF!
Name BOQ: #REF!
Name BOQ: #REF!
Name BVCISUMMARY: #REF!
Name BVCISUMMARY: #REF!
Name Co: #REF!
Name Co: #REF!
Name COMMON: #REF!
Name COMMON: #REF!
Name CON_EQP_COS: #REF!
Name CON_EQP_COS: #REF!
Name COVER: #REF!
Name COVER: #REF!
Name CRITINST: #REF!
Name CRITINST: #REF!
Name CRITPURC: #REF!
Name CRITPURC: #REF!
Name CS_10: #REF!
Name CS_10: #REF!
Name CS_100: #REF!
Name CS_100: #REF!
Name CS_10S: #REF!
Name CS_10S: #REF!
Name CS_120: #REF!
Name CS_120: #REF!
Name CS_140: #REF!
Name CS_140: #REF!
Name CS_160: #REF!
Name CS_160: #REF!
Name CS_20: #REF!
Name CS_20: #REF!
Name CS_30: #REF!
Name CS_30: #REF!
Name CS_40: #REF!
Name CS_40: #REF!
Name CS_40S: #REF!
Name CS_40S: #REF!
Name CS_5S: #REF!
Name CS_5S: #REF!
Name CS_60: #REF!
Name CS_60: #REF!
Name CS_80: #REF!
Name CS_80: #REF!
Name CS_80S: #REF!
Name CS_80S: #REF!
Name CS_STD: #REF!
Name CS_STD: #REF!

Sheet BS6. tong hop so HS
B1: UBND THÀNH PHỐ HỒ CHÍ MINH | T1: CỘNG HÒA XÃ HỘI CHỦ NGHĨA VIỆT NAM
B2: TRƯỜNG CAO ĐẲNG KỸ THUẬT | T2: Độc lập - Tự do - Hạnh phúc
B3: LÝ TỰ TRỌNG TP. HỒ CHÍ MINH
A5: BÁO CÁO SỐ LIỆU SINH VIÊN NĂM 2017
A7: Stt | B7: Tên đơn vị | C7: Số liệu phân bổ đến ngày 30/6/2016 | M7: Số liệu báo cáo năm 2017 | Y7: Chênh lệch Tháng 12-Tháng 6
C8: Thực hiện năm 2015 | H8: Dự toán năm 2016 | M8: Thực hiện năm 2016 | R8: Dự toán năm 2017
C9: Số đầu năm | D9: Số tốt nghiệp | E9: Số chỉ tiêu tuyển mới | F9: Số thực tế tuyển mới | G9: Bình quân | H9: Số đầu năm | I9: Số tốt nghiệp + bỏ học | J9: Số chỉ tiêu tuyển mới | K9: Số thực tế tuyển mới | L9: Bình quân | M9: Số đầu năm | N9: Số tốt nghiệp | O9: Số chỉ tiêu tuyển mới | P9: Số thực tế tuyển mới | Q9: Bình quân | R9: Số đầu năm | S9: Số tốt nghiệp + bỏ học | T9: Số chỉ tiêu tuyển mới | U9: Số thực tế tuyển mới | V9: Bình quân | W9: Quyết định giao chỉ tiêu tuyển sinh NH 2017-2018 (Số QĐ../ngày..) | X9: Ghi chú khóa học ra trường | Y9: Số HS | Z9: Mức chi hoạt động bình quân | AA9: Kinh phí dự kiến điều chỉnh
C10: 2 | D10: 3 | E10: 4 | F10: 5 | G10: 6=2-3/4 +5/4 | H10: 7=2-3+ min(4;5) | I10: 8 | J10: 9 | L10: 10=7-8/4 +9/4 | M10: 2 | N10: 3 | O10: 4 | P10: 5 | Q10: 6=2-3/4 +5/4 | R10: 7=2-3+ min(4;5) | S10: 8 | T10: 9 | U10: 10 | V10: 11=7-8/4 + min(9;10)/4 | W10: 12 | X10: 13 | Y10: 14 | Z10: 15 | AA10: 16=14*15
B11: I . TRUNG CẤP | C11: =C12+C15+C18+C21 -> 9565 | D11: =D12+D15+D18+D21 -> 2989 | E11: =E12+E15+E18+E21 -> 6630 | F11: =F12+F15+F18+F21 -> 4596 | G11: =G12+G15+G18+G21 -> 9966.75 | H11: =H12+H15+H18+H21 -> 11030 | I11: =I12+I15+I18+I21 -> 2369 | J11: =J12+J15+J18+J21 -> 5530 | ... L11: =L12+L15+L18+L21 -> 11821
A12: 1 | B12: THKT NG HỮU CẢNH | C12: =SUM(C13:C13) -> 1751 | D12: =SUM(D13:D13) -> 419 | E12: =SUM(E13:E13) -> 1530 | F12: =SUM(F13:F13) -> 1106 | G12: =SUM(G13:G13) -> 1922.75 | H12: =SUM(H13:H13) -> 2438 | I12: =SUM(I13:I13) -> 444 | J12: =SUM(J13:J13) -> 1080 | ... L12: =SUM(L13:L13) -> 2597 | X12: - Trung cấp: khóa 14 trở về trước
B13: * Hệ THCN | C13: 1751 | D13: 419 | E13: 1530 | F13: 1106 | G13: =C13-D13/4+F13/4 -> 1922.75 | H13: =C13-D13+MIN(E13,F13) -> 2438 | I13: 444 | J13: 1080 | L13: =ROUND(H13-I13/4+J13/4,0) -> 2597
A15: 2 | B15: THKTNV NAM SÀI GÒN | C15: =SUM(C16:C16) -> 6749 | D15: =SUM(D16:D16) -> 2550 | E15: =SUM(E16:E16) -> 2950 | F15: =SUM(F16:F16) -> 2177 | G15: =SUM(G16:G16) -> 6655.75 | H15: =SUM(H16:H16) -> 6376 | I15: =SUM(I16:I16) -> 1800 | J15: =SUM(J16:J16) -> 2750 | ... L15: =SUM(L16:L16) -> 6614
B16: * Hệ THCN | C16: 6749 | D16: 2550 | E16: 2950 | F16: 2177 | G16: =C16-D16/4+F16/4 -> 6655.75 | H16: =C16-D16+MIN(E16,F16) -> 6376 | I16: 1800 | J16: 2750 | L16: =ROUND(H16-I16/4+J16/4,0) -> 6614
A18: 3 | B18: TCKTKT QUẬN 12 | C18: =C19 -> 756 | D18: =D19 -> 16 | E18: =E19 -> 1150 | F18: =F19 -> 962 | G18: =G19 -> 992.5 | H18: =H19 -> 1710 | I18: =I19 -> 113 | J18: =J19 -> 1200 | ... L18: =L19 -> 1982
B19: * Hệ THCN | C19: 756 | D19: 16 | E19: 1150 | F19: 962 | G19: =C19-D19/4+F19/4 -> 992.5 | H19: =1692+18 -> 1710 | I19: 113 | J19: 1200 | K19: 1150 | L19: =ROUND(H19-I19/4+J19/4,0) -> 1982
A21: 4 | B21: TCKTKT HÓC MÔN | C21: =C22 -> 309 | D21: =D22 -> 4 | E21: =E22 -> 1000 | F21: =F22 -> 351 | G21: =G22 -> 395.75 | H21: 506 | I21: =I22 -> 12 | J21: =J22 -> 500 | K21: =K22 -> 1000 | L21: =L22 -> 628
B22: * Hệ THCN | C22: 309 | D22: 4 | E22: 1000 | F22: 351 | G22: =C22-D22/4+F22/4 -> 395.75 | H22: 506 | I22: 12 | J22: 500 | K22: 1000 | L22: =ROUND(H22-I22/4+J22/4,0) -> 628
A24: 5 | B24: Dự phòng
B25: II. CAO ĐẲNG (KHOẢN 501) | C25: =C33+C38+C43+C49 -> 21436 | D25: =D33+D38+D43+D49 -> 6156 | E25: =E33+E38+E43+E49 -> 10550 | F25: =F33+F38+F43+F49 -> 10622 | G25: =G33+G38+G43+G49 -> 22552.5 | H25: =H33+H38+H43+H49 -> 24123 | I25: =I33+I38+I43+I49 -> 8267 | J25: =J33+J38+J43+J49 -> 12900 | ... L25: =L33+L38+L43+L49 -> 25246
B26: Hệ Cao đẳng | C26: =C27+C28 -> 14279 | D26: =D27+D28 -> 3945 | E26: =E27+E28 -> 7800 | F26: =F27+F28 -> 8208 | G26: =G27+G28 -> 15344.75 | H26: =H27+H28 -> 17275 | I26: =I27+I28 -> 5249 | J26: =J27+J28 -> 10100 | ... L26: =L27+L28 -> 18488
B27: - Hệ Cao đẳng | C27: =C34+C39+C44+C50 -> 13960 | D27: =D34+D39+D44+D50 -> 3858 | E27: =E34+E39+E44+E50 -> 7650 | F27: =F34+F39+F44+F50 -> 8058 | G27: =G34+G39+G44+G50 -> 15010 | H27: =H34+H39+H44+H50 -> 17275 | I27: =I34+I39+I44+I50 -> 5249 | J27: =J34+J39+J44+J50 -> 10100 | ... L27: =L34+L39+L44+L50 -> 18488
B28: - Hệ C.Đ Liên thông | C28: =C35+C40+C46+C51 -> 319 | D28: =D35+D40+D46+D51 -> 87 | E28: =E35+E40+E46+E51 -> 150 | F28: =F35+F40+F46+F51 -> 150 | G28: =G35+G40+G46+G51 -> 334.75 | H28: =H35+H40+H46+H51 -> 0 | I28: =I35+I40+I46+I51 -> 0 | J28: =J35+J40+J46+J51 -> 0 | ... L28: =L35+L40+L46+L51 -> 0
B29: * Hệ THCN | C29: =C36+C41+C45+C52 -> 5810 | D29: =D36+D41+D45+D52 -> 1785 | E29: =E36+E41+E45+E52 -> 2750 | F29: =F36+F41+F45+F52 -> 2414 | G29: =G36+G41+G45+G52 -> 5967.25 | H29: =H36+H41+H45+H52 -> 6011 | I29: =I36+I41+I45+I52 -> 2585 | J29: =J36+J41+J45+J52 -> 2800 | ... L29: =L36+L41+L45+L52 -> 6065
B30: * Khối THPT | C30: =C37+C42+C47+#REF! -> #REF! | D30: =D37+D42+D47+#REF! -> #REF! | E30: =E37+E42+E47+#REF! -> #REF! | F30: =F37+F42+F47+#REF! -> #REF! | G30: =G37+G42+G47+#REF! -> #REF! | H30: =H37+H42+H47+#REF! -> #REF! | I30: =I37+I42+I47+#REF! -> #REF! | J30: =J37+J42+J47+#REF! -> #REF! | ... L30: =L37+L42+L47+#REF! -> #REF!
B31: - CĐ nghề | C31: =#REF! -> #REF! | D31: =#REF! -> #REF! | E31: =#REF! -> #REF! | F31: =#REF! -> #REF! | G31: =#REF! -> #REF! | H31: =#REF! -> #REF! | I31: =#REF! -> #REF! | J31: =#REF! -> #REF! | ... L31: =#REF! -> #REF!
B32: - TC nghề | C32: =#REF! -> #REF! | D32: =#REF! -> #REF! | E32: =#REF! -> #REF! | F32: =#REF! -> #REF! | G32: =#REF! -> #REF! | H32: =#REF! -> #REF! | I32: =#REF! -> #REF! | J32: =#REF! -> #REF! | ... L32: =#REF! -> #REF!
A33: 1 | B33: CĐKTKT TP.HCM | C33: =SUM(C34:C36) -> 4938 | D33: =SUM(D34:D36) -> 1226 | E33: =SUM(E34:E36) -> 2500 | F33: =SUM(F34:F36) -> 2438 | G33: =SUM(G34:G36) -> 5241 | H33: =SUM(H34:H36) -> 6119 | I33: =SUM(I34:I36) -> 2199 | J33: =SUM(J34:J36) -> 3000 | ... L33: =SUM(L34:L36) -> 6320
B34: * Hệ Cao đẳng | C34: 2380 | D34: 722 | E34: 1350 | F34: 1257 | G34: =C34-D34/4+F34/4 -> 2513.75 | H34: 3297 | I34: 1458 | J34: 1800 | L34: =ROUND(H34-I34/4+J34/4,0) -> 3383
B35: * Hệ C.Đ Liên thông | C35: 319 | D35: 87 | E35: 150 | F35: 150 | G35: =C35-D35/4+F35/4 -> 334.75
B36: * Hệ THCN | C36: 2239 | D36: 417 | E36: 1000 | F36: 1031 | G36: =C36-D36/4+F36/4 -> 2392.5 | H36: =C36-D36+MIN(E36,F36) -> 2822 | I36: 741 | J36: 1200 | L36: =ROUND(H36-I36/4+J36/4,0) -> 2937
A38: 2 | B38: CĐ KINH TẾ | C38: =SUM(C39:C41) -> 3484 | D38: =SUM(D39:D41) -> 805 | E38: =SUM(E39:E41) -> 1550 | F38: =SUM(F39:F41) -> 1578 | G38: =SUM(G39:G41) -> 3677.25 | H38: =SUM(H39:H41) -> 3603 | I38: =SUM(I39:I41) -> 925 | J38: =SUM(J39:J41) -> 1700 | ... L38: =SUM(L39:L41) -> 3797
B39: * Hệ Cao đẳng | C39: 3024 | D39: 707 | E39: 1300 | F39: 1404 | G39: =C39-D39/4+F39/4 -> 3198.25 | H39: 3246 | I39: 745 | J39: 1500 | L39: =ROUND(H39-I39/4+J39/4,0) -> 3435
B40: * Hệ C.Đ Liên thông | G40: =C40-D40/4+F40/4 -> 0 | H40: =C40-D40+MIN(E40,F40) -> 0 | L40: =ROUND(H40-I40/4+J40/4,0) -> 0
B41: * Hệ THCN | C41: 460 | D41: 98 | E41: 250 | F41: 174 | G41: =C41-D41/4+F41/4 -> 479 | H41: 357 | I41: 180 | J41: 200 | L41: =ROUND(H41-I41/4+J41/4,0) -> 362
A43: 3 | B43: CĐKT LÝ TỰ TRỌNG | C43: =SUM(C44:C47) -> 4309 | D43: =SUM(D44:D47) -> 1275 | E43: =SUM(E44:E47) -> 3300 | F43: =SUM(F44:F47) -> 3037 | G43: =SUM(G44:G47) -> 4749.5 | H43: =SUM(H44:H47) -> 5346 | I43: =SUM(I44:I47) -> 1524 | J43: =SUM(J44:J47) -> 4800 | ... V43: =SUM(V44:V47) -> 9236
B44: * Hệ Cao đẳng | C44: 2411 | D44: 641 | E44: 2500 | F44: 2615 | G44: =C44-D44/4+F44/4 -> 2904.5 | H44: =3827+48 -> 3875 | I44: 879 | J44: 4000 | L44: =ROUND(H44-I44/4+J44/4,0) -> 4655 | M44: 4196 | N44: 937 | O44: 4020 | P44: ='thong ke chi tiet sp lieu HSSV'!E235 -> 2719 | Q44: =M44-N44/4+P44/4 -> 4641.5 | R44: =M44-N44+MIN(O44,P44) -> 5978 | S44: ='thong ke chi tiet sp lieu HSSV'!E232+'thong ke chi tiet sp lieu HSSV'!E233+'thong ke chi tiet sp lieu HSSV'!E234-'thong ke chi tiet sp lieu HSSV'!P234+'thong ke chi tiet sp lieu HSSV'!E235-'thong ke chi tiet sp lieu HSSV'!P235 -> 1287 | T44: 3410 | U44: ='thong ke chi tiet sp lieu HSSV'!P236 -> 3010 | V44: =R44-S44/4+MIN(T44:U44)/4 -> 6408.75
B45: * Hệ TCCN | C45: 551 | D45: 208 | E45: 800 | F45: 422 | G45: =C45-D45/4+F45/4 -> 604.5 | H45: 634 | I45: 212 | J45: 800 | L45: =ROUND(H45-I45/4+J45/4,0) -> 781 | M45: 1274 | N45: 259 | O45: 1440 | P45: ='thong ke chi tiet sp lieu HSSV'!E241 -> 1135 | Q45: =M45-N45/4+P45/4 -> 1493 | R45: =M45-N45+MIN(O45,P45) -> 2150 | S45: ='thong ke chi tiet sp lieu HSSV'!E238+'thong ke chi tiet sp lieu HSSV'!E239+('thong ke chi tiet sp lieu HSSV'!E240-'thong ke chi tiet sp lieu HSSV'!P240)+('thong ke chi tiet sp lieu HSSV'!E241-'thong ke chi tiet sp lieu HSSV'!P241) -> 499 | T45: 2050 | U45: ='thong ke chi tiet sp lieu HSSV'!P242 -> 1720 | V45: =R45-S45/4+MIN(T45:U45)/4 -> 2455.25
B46: * Hệ C.Đ Liên thông | E46: 0 | F46: 0 | G46: =C46-D46/4+F46/4 -> 0 | H46: =C46-D46+MIN(E46,F46) -> 0 | J46: =E46 -> 0 | L46: =ROUND(H46-I46/4+J46/4,0) -> 0 | M46: 48 | O46: 200 | P46: ='thong ke chi tiet sp lieu HSSV'!E245 -> 74 | Q46: =M46-N46/4+P46/4 -> 66.5 | R46: =M46-N46+MIN(O46,P46) -> 122 | S46: ='thong ke chi tiet sp lieu HSSV'!E244+('thong ke chi tiet sp lieu HSSV'!E245-'thong ke chi tiet sp lieu HSSV'!P245) -> 72 | T46: 200 | U46: ='thong ke chi tiet sp lieu HSSV'!P246 -> 130 | V46: =R46-S46/4+MIN(T46:U46)/4 -> 136.5
B47: * Khối THPT | C47: 1347 | D47: 426 | E47: 0 | F47: 0 | G47: =C47-D47/4+F47/4 -> 1240.5 | H47: 837 | I47: 433 | J47: =E47 -> 0 | L47: =ROUND((H47*8+(H47-I47)*4)/12,0) -> 693 | M47: 921 | N47: 421 | Q47: =M47-N47/4+P47/4 -> 815.75 | R47: 314 | S47: 314 | T47: 0 | U47: 0 | V47: =R47-S47/4+MIN(T47:U47)/4 -> 235.5
A49: 4 | B49: CĐ CN THỦ ĐỨC | C49: =SUM(C50:C52) -> 8705 | D49: =SUM(D50:D52) -> 2850 | E49: =SUM(E50:E52) -> 3200 | F49: =SUM(F50:F52) -> 3569 | G49: =SUM(G50:G52) -> 8884.75 | H49: =SUM(H50:H52) -> 9055 | I49: =SUM(I50:I52) -> 3619 | J49: =SUM(J50:J52) -> 3400 | ... L49: =SUM(L50:L52) -> 9000
B50: * Hệ Cao đẳng | C50: 6145 | D50: 1788 | E50: 2500 | F50: 2782 | G50: =C50-D50/4+F50/4 -> 6393.5 | H50: =C50-D50+MIN(E50,F50) -> 6857 | I50: 2167 | J50: 2800 | L50: =ROUND(H50-I50/4+J50/4,0) -> 7015
B51: * Hệ C.Đ Liên thông | G51: =C51-D51/4+F51/4 -> 0 | H51: =C51-D51+MIN(E51,F51) -> 0 | J51: =E51 -> 0 | L51: =ROUND(H51-I51/4+J51/4,0) -> 0
B52: * Hệ THCN | C52: 2560 | D52: 1062 | E52: 700 | F52: 787 | G52: =C52-D52/4+F52/4 -> 2491.25 | H52: =C52-D52+MIN(E52,F52) -> 2198 | I52: =1321+131 -> 1452 | J52: 600 | L52: =ROUND(H52-I52/4+J52/4,0) -> 1985
N53: (Đính kèm biểu số liệu học sinh chi tiết của năm 2017) | T53: Ngày 29 tháng 05 năm 2017
T54: Hiệu trưởng
T61: Phạm Hữu Lộc

Sheet thong ke chi tiet sp lieu HSSV
A1: UBND THÀNH PHỐ HỒ CHÍ MINH | I1: CỘNG HÒA XÃ HỘI CHỦ NGHĨA VIỆT NAM
A2: TRƯỜNG CAO ĐẲNG KỸ THUẬT | I2: Độc lập - Tự do - Hạnh phúc
A3: LÝ TỰ TRỌNG TP. HỒ CHÍ MINH
A5: THỐNG KÊ CHI TIẾT SỐ LƯỢNG HỌC SINH SINH VIÊN THEO TỪNG THÁNG NĂM 2017 THEO KHOA
A7: S TT | B7: Ngành nghề | C7: Tên lớp | D7: hệ | E7: THÁNG
E8: 01/2017 | F8: 02/2017 | G8: 03/2017 | H8: 04/2017 | I8: 05/2017 | J8: 06/2017 | K8: 07/2017 | L8: 08/2017 | M8: 09/2017 | N8: 10/2017 | O8: 11/2017 | P8: 12/2017
A9: 1 | B9: KHOA KINH TẾ | C9: 15TCN-KTD | D9: =LEFT(C9,FIND("-",C9,1)-1) -> 15TCN | E9: =VLOOKUP(C9,'[1]Chi tiet theo khoa'!$C$8:$O$205,13,0) -> 33 | F9: 33 | G9: 33 | H9: 33 | I9: 33 | J9: 33 | K9: 33 | L9: 33 | M9: 33 | N9: 33 | O9: 33 | P9: 33
C10: 15CĐN-QTD | D10: =LEFT(C10,FIND("-",C10,1)-1) -> 15CĐN | E10: =VLOOKUP(C10,'[1]Chi tiet theo khoa'!$C$8:$O$205,13,0) -> 14 | F10: 14 | G10: 14 | H10: =VLOOKUP(C10,'[2]TK.HSSV_T_N(10-5-17)'!$C$9:$H$229,6,0) -> 14 | I10: 14 | J10: 14 | K10: 14 | L10: 14 | M10: 14 | N10: 14 | O10: 14 | P10: 14
C11: 16CĐN-QTD | D11: =LEFT(C11,FIND("-",C11,1)-1) -> 16CĐN | E11: =VLOOKUP(C11,'[1]Chi tiet theo khoa'!$C$8:$O$205,13,0) -> 45 | F11: 45 | G11: 45 | H11: =VLOOKUP(C11,'[2]TK.HSSV_T_N(10-5-17)'!$C$9:$H$229,6,0) -> 47 | I11: 47 | J11: 47 | K11: 47 | L11: 47 | M11: 47 | N11: 47 | O11: 47 | P11: 47
C12: 16TCN-KTD | D12: =LEFT(C12,FIND("-",C12,1)-1) -> 16TCN | E12: =VLOOKUP(C12,'[1]Chi tiet theo khoa'!$C$8:$O$205,13,0) -> 45 | F12: 45 | G12: 45 | H12: 45 | I12: 45 | J12: 45 | K12: 45 | L12: 45 | M12: 45 | N12: 45 | O12: 45 | P12: 45
C13: 16TCN-QTD | D13: =LEFT(C13,FIND("-",C13,1)-1) -> 16TCN | E13: =VLOOKUP(C13,'[1]Chi tiet theo khoa'!$C$8:$O$205,13,0) -> 53 | F13: 53 | G13: 53 | H13: 53 | I13: 53 | J13: 53 | K13: 53 | L13: 53 | M13: 53 | N13: 53 | O13: 53 | P13: 53
C14: 17TCN | D14: 17TCN | E14: 0 | F14: 0 | G14: 0 | H14: =VLOOKUP(C14,'[2]TK.HSSV_T_N(10-5-17)'!$C$9:$H$229,6,0) -> 0 | I14: 0 | J14: 0 | K14: 0 | L14: 0 | M14: 100 | N14: 100 | O14: 100 | P14: 100
C15: 17CĐN | D15: =C15 -> 17CĐN | E15: 0 | F15: 0 | G15: 0 | H15: =VLOOKUP(C15,'[2]TK.HSSV_T_N(10-5-17)'!$C$9:$H$229,6,0) -> 0 | I15: 0 | J15: 0 | K15: 0 | L15: 0 | M15: 50 | N15: 50 | O15: 50 | P15: 50
C16: Tổng khoa | E16: =SUM(E9:E14) -> 190 | F16: =SUM(F9:F13) -> 190 | G16: =SUM(G9:G13) -> 190 | H16: =SUM(H9:H13) -> 192 | I16: =SUM(I9:I13) -> 192 | J16: =SUM(J9:J13) -> 192 | K16: =SUM(K9:K13) -> 192 | L16: =SUM(L9:L13) -> 192 | M16: =SUM(M9:M15) -> 342 | N16: =SUM(N9:N15) -> 342 | O16: =SUM(O9:O15) -> 342 | P16: =SUM(P9:P15) -> 342
A17: 2 | B17: KHOA CÔNG NGHỆ THÔNG TIN | C17: 13CĐ-TM1 | D17: 13CÐ | E17: =VLOOKUP(C17,'[1]Chi tiet theo khoa'!$C$8:$O$205,13,0) -> 7 | F17: 7 | G17: 7 | H17: 6 | I17: 6 | J17: 6 | K17: 6 | L17: 6 | M17: 0 | N17: 0 | O17: 0 | P17: 0
C18: 13CĐ-TM2 | D18: 13CÐ | E18: =VLOOKUP(C18,'[1]Chi tiet theo khoa'!$C$8:$O$205,13,0) -> 11 | F18: 9 | G18: 8 | H18: 6 | I18: 6 | J18: 6 | K18: 6 | L18: 6 | M18: 0 | N18: 0 | O18: 0 | P18: 0
C19: 13CĐ-TP1 | D19: 13CÐ | E19: =VLOOKUP(C19,'[1]Chi tiet theo khoa'!$C$8:$O$205,13,0) -> 7 | F19: 7 | G19: 7 | H19: 6 | I19: 6 | J19: 6 | K19: 6 | L19: 6 | M19: 0 | N19: 0 | O19: 0 | P19: 0
C20: 13CĐ-TP2 | D20: 13CÐ | E20: =VLOOKUP(C20,'[1]Chi tiet theo khoa'!$C$8:$O$205,13,0) -> 11 | F20: 11 | G20: 11 | H20: 10 | I20: 10 | J20: 10 | K20: 10 | L20: 10 | M20: 0 | N20: 0 | O20: 0 | P20: 0
C21: 13TC-QTM | D21: =LEFT(C21,FIND("-",C21,1)-1) -> 13TC | E21: =VLOOKUP(C21,'[1]Chi tiet theo khoa'!$C$8:$O$205,13,0) -> 12 | F21: 12 | G21: 12 | H21: =VLOOKUP(C21,'[2]TK.HSSV_T_N(10-5-17)'!$C$9:$H$229,6,0) -> 12 | I21: 12 | J21: 12 | K21: 12 | L21: 12 | M21: 0 | N21: 0 | O21: 0 | P21: 0
C22: 14CĐ-TM1 | D22: 14CĐ | E22: =VLOOKUP(C22,'[1]Chi tiet theo khoa'!$C$8:$O$205,13,0) -> 40 | F22: 35 | G22: 28 | H22: =VLOOKUP(C22,'[2]TK.HSSV_T_N(10-5-17)'!$C$9:$H$229,6,0) -> 21 | I22: 21 | J22: 21 | K22: 21 | L22: 21 | M22: 0 | N22: 0 | O22: 0 | P22: 0
C23: 14CĐ-TP1 | D23: 14CĐ | E23: =VLOOKUP(C23,'[1]Chi tiet theo khoa'!$C$8:$O$205,13,0) -> 70 | F23: 64 | G23: 60 | H23: =VLOOKUP(C23,'[2]TK.HSSV_T_N(10-5-17)'!$C$9:$H$229,6,0) -> 54 | I23: 54 | J23: 54 | K23: 54 | L23: 54 | M23: 0 | N23: 0 | O23: 0 | P23: 0
C24: 14TCQT01 | D24: =LEFT(C24,4) -> 14TC | E24: =VLOOKUP(C24,'[1]Chi tiet theo khoa'!$C$8:$O$205,13,0) -> 28 | F24: 20 | G24: 15 | H24: =VLOOKUP(C24,'[2]TK.HSSV_T_N(10-5-17)'!$C$9:$H$229,6,0) -> 9 | I24: 9 | J24: 9 | K24: 9 | L24: 9 | M24: 0 | N24: 0 | O24: 0 | P24: 0
C25: 15CĐ-TP1 | D25: =LEFT(C25,FIND("-",C25,1)-1) -> 15CĐ | E25: =VLOOKUP(C25,'[1]Chi tiet theo khoa'!$C$8:$O$205,13,0) -> 56 | F25: 56 | G25: 56 | H25: 56 | I25: 56 | J25: 56 | K25: 56 | L25: 56 | M25: 56 | N25: 56 | O25: 56 | P25: 56
C26: 15CĐ-TP2 | D26: =LEFT(C26,FIND("-",C26,1)-1) -> 15CĐ | E26: =VLOOKUP(C26,'[1]Chi tiet theo khoa'!$C$8:$O$205,13,0) -> 60 | F26: 60 | G26: 60 | H26: 60 | I26: 60 | J26: 60 | K26: 60 | L26: 60 | M26: 60 | N26: 60 | O26: 60 | P26: 60
C27: 15CĐ-TP3 | D27: =LEFT(C27,FIND("-",C27,1)-1) -> 15CĐ | E27: =VLOOKUP(C27,'[1]Chi tiet theo khoa'!$C$8:$O$205,13,0) -> 58 | F27: 58 | G27: 58 | H27: 58 | I27: 58 | J27: 58 | K27: 58 | L27: 58 | M27: 58 | N27: 58 | O27: 58 | P27: 58
C28: 15CĐ-TM1 | D28: =LEFT(C28,FIND("-",C28,1)-1) -> 15CĐ | E28: =VLOOKUP(C28,'[1]Chi tiet theo khoa'!$C$8:$O$205,13,0) -> 64 | F28: 64 | G28: 64 | H28: 64 | I28: 64 | J28: 64 | K28: 64 | L28: 64 | M28: 64 | N28: 64 | O28: 64 | P28: 64
C29: 15CĐ-TM2 | D29: =LEFT(C29,FIND("-",C29,1)-1) -> 15CĐ | E29: =VLOOKUP(C29,'[1]Chi tiet theo khoa'!$C$8:$O$205,13,0) -> 70 | F29: 70 | G29: 70 | H29: 70 | I29: 70 | J29: 70 | K29: 70 | L29: 70 | M29: 70 | N29: 70 | O29: 70 | P29: 70
C30: 15CĐ-TW | D30: =LEFT(C30,FIND("-",C30,1)-1) -> 15CĐ | E30: =VLOOKUP(C30,'[1]Chi tiet theo khoa'!$C$8:$O$205,13,0) -> 67 | F30: 67 | G30: 67 | H30: 67 | I30: 67 | J30: 67 | K30: 67 | L30: 67 | M30: 67 | N30: 67 | O30: 67 | P30: 67
C31: 15TCT-QTM | D31: =LEFT(C31,FIND("-",C31,1)-1) -> 15TCT | E31: =5+VLOOKUP(C31,'[1]Chi tiet theo khoa'!$C$8:$O$205,13,0) -> 16 | F31: 16 | G31: 16 | H31: 16 | I31: 16 | J31: 16 | K31: 16 | L31: 0 | M31: 0 | N31: 0 | O31: 0 | P31: 0
C32: 15TC-QTM | D32: =LEFT(C32,FIND("-",C32,1)-1) -> 15TC | E32: =VLOOKUP(C32,'[1]Chi tiet theo khoa'!$C$8:$O$205,13,0) -> 16 | F32: 16 | G32: 16 | H32: 16 | I32: 16 | J32: 16 | K32: 16 | L32: 16 | M32: 16 | N32: 16 | O32: 16 | P32: 16
C33: 15TCN-QTM1 | D33: =LEFT(C33,FIND("-",C33,1)-1) -> 15TCN | E33: =VLOOKUP(C33,'[1]Chi tiet theo khoa'!$C$8:$O$205,13,0) -> 61 | F33: 61 | G33: 61 | H33: 61 | I33: 61 | J33: 61 | K33: 61 | L33: 61 | M33: 61 | N33: 61 | O33: 61 | P33: 61
C34: 15TCN-QTM2 | D34: =LEFT(C34,FIND("-",C34,1)-1) -> 15TCN | E34: =VLOOKUP(C34,'[1]Chi tiet theo khoa'!$C$8:$O$205,13,0) -> 62 | F34: 62 | G34: 62 | H34: 62 | I34: 62 | J34: 62 | K34: 62 | L34: 62 | M34: 62 | N34: 62 | O34: 62 | P34: 62
C35: 16CĐ-CNTT1 | D35: =LEFT(C35,FIND("-",C35,1)-1) -> 16CĐ | E35: 64 | F35: 64 | G35: 60 | H35: 58 | I35: 58 | J35: 58 | K35: 58 | L35: 58 | M35: 58 | N35: 58 | O35: 58 | P35: 58
C36: 16CĐ-CNTT2 | D36: =LEFT(C36,FIND("-",C36,1)-1) -> 16CĐ | E36: =VLOOKUP(C36,'[1]Chi tiet theo khoa'!$C$8:$O$205,13,0) -> 64 | F36: 64 | G36: 60 | H36: 60 | I36: 60 | J36: 60 | K36: 60 | L36: 60 | M36: 60 | N36: 60 | O36: 60 | P36: 60
B37: KHOA CÔNG NGHỆ THÔNG TIN | C37: 16CĐ-CNTT3 | D37: =LEFT(C37,FIND("-",C37,1)-1) -> 16CĐ | E37: =VLOOKUP(C37,'[1]Chi tiet theo khoa'!$C$8:$O$205,13,0) -> 63 | F37: 63 | G37: 61 | H37: 59 | I37: 59 | J37: 59 | K37: 59 | L37: 59 | M37: 59 | N37: 59 | O37: 59 | P37: 59
C38: 16CĐ-CNTT4 | D38: =LEFT(C38,FIND("-",C38,1)-1) -> 16CĐ | E38: =VLOOKUP(C38,'[1]Chi tiet theo khoa'!$C$8:$O$205,13,0) -> 63 | F38: 63 | G38: 61 | H38: 59 | I38: 59 | J38: 59 | K38: 59 | L38: 59 | M38: 59 | N38: 59 | O38: 59 | P38: 59
C39: 16CĐ-CNTT5 | D39: =LEFT(C39,FIND("-",C39,1)-1) -> 16CĐ | E39: =VLOOKUP(C39,'[1]Chi tiet theo khoa'!$C$8:$O$205,13,0) -> 64 | F39: 62 | G39: 62 | H39: 59 | I39: 59 | J39: 59 | K39: 59 | L39: 59 | M39: 59 | N39: 59 | O39: 59 | P39: 59
C40: 16TCT-QTM | D40: =LEFT(C40,FIND("-",C40,1)-1) -> 16TCT | E40: =4+VLOOKUP(C40,'[1]Chi tiet theo khoa'!$C$8:$O$205,13,0) -> 71 | F40: 71 | G40: 71 | H40: =VLOOKUP(C40,'[2]TK.HSSV_T_N(10-5-17)'!$C$9:$H$229,6,0) -> 67 | I40: 67 | J40: 67 | K40: 67 | L40: 67 | M40: 67 | N40: 67 | O40: 67 | P40: 67
C41: 16TC-QTM | D41: =LEFT(C41,FIND("-",C41,1)-1) -> 16TC | E41: =VLOOKUP(C41,'[1]Chi tiet theo khoa'!$C$8:$O$205,13,0) -> 61 | F41: 61 | G41: 61 | H41: =VLOOKUP(C41,'[2]TK.HSSV_T_N(10-5-17)'!$C$9:$H$229,6,0)-3 -> 58 | I41: 58 | J41: 58 | K41: 58 | L41: 58 | M41: 58 | N41: 58 | O41: 58 | P41: 58
C42: 16TCN-QTM1 | D42: =LEFT(C42,FIND("-",C42,1)-1) -> 16TCN | E42: =VLOOKUP(C42,'[1]Chi tiet theo khoa'!$C$8:$O$205,13,0) -> 50 | F42: 50 | G42: 50 | H42: 50 | I42: 50 | J42: 50 | K42: 50 | L42: 50 | M42: 50 | N42: 50 | O42: 50 | P42: 50
C43: 16TCN-QTM2 | D43: =LEFT(C43,FIND("-",C43,1)-1) -> 16TCN | E43: =VLOOKUP(C43,'[1]Chi tiet theo khoa'!$C$8:$O$205,13,0) -> 58 | F43: 58 | G43: 58 | H43: 58 | I43: 58 | J43: 58 | K43: 58 | L43: 58 | M43: 58 | N43: 58 | O43: 58 | P43: 58
C44: 16CĐ-LTCNTT | D44: =LEFT(C44,FIND("-",C44,1)+2) -> 16CĐ-LT | E44: =VLOOKUP(C44,'[1]Chi tiet theo khoa'!$C$8:$O$205,13,0) -> 13 | F44: 13 | G44: 13 | H44: =VLOOKUP(C44,'[2]TK.HSSV_T_N(10-5-17)'!$C$9:$H$229,6,0) -> 12 | I44: 12 | J44: 12 | K44: 12 | L44: 12 | M44: 12 | N44: 12 | O44: 12 | P44: 12
C45: 17TCN | D45: 17TCN | E45: 0 | F45: 0 | G45: 0 | H45: =VLOOKUP(C45,'[2]TK.HSSV_T_N(10-5-17)'!$C$9:$H$229,6,0) -> 0 | I45: 0 | J45: 0 | K45: 0 | L45: 0 | M45: 188 | N45: 188 | O45: 188 | P45: 188
C46: 17CĐN | D46: 17CĐN | E46: 0 | F46: 0 | G46: 0 | H46: =VLOOKUP(C46,'[2]TK.HSSV_T_N(10-5-17)'!$C$9:$H$229,6,0) -> 0 | I46: 0 | J46: 0 | K46: 0 | L46: 0 | M46: 30 | N46: 30 | O46: 30 | P46: 30
C47: 17TC | D47: 17TC | E47: 0 | F47: 0 | G47: 0 | H47: =VLOOKUP(C47,'[2]TK.HSSV_T_N(10-5-17)'!$C$9:$H$229,6,0) -> 0 | I47: 0 | J47: 0 | K47: 0 | L47: 0 | M47: 200 | N47: 200 | O47: 200 | P47: 200
C48: 17CĐ | D48: 17CĐ | E48: 0 | F48: 0 | G48: 0 | H48: =VLOOKUP(C48,'[2]TK.HSSV_T_N(10-5-17)'!$C$9:$H$229,6,0) -> 0 | I48: 0 | J48: 0 | K48: 0 | L48: 0 | M48: 340 | N48: 340 | O48: 340 | P48: 340
C49: 17CĐLT | D49: 17CĐLT | E49: 0 | F49: 0 | G49: 0 | H49: =VLOOKUP(C49,'[2]TK.HSSV_T_N(10-5-17)'!$C$9:$H$229,6,0) -> 0 | I49: 0 | J49: 0 | K49: 0 | L49: 0 | M49: 30 | N49: 30 | O49: 30 | P49: 30
C50: Tổng khoa | E50: =SUM(E17:E49) -> 1287 | F50: =SUM(F17:F48) -> 1264 | G50: =SUM(G17:G48) -> 1235 | H50: =SUM(H17:H49) -> 1194 | I50: =SUM(I17:I48) -> 1194 | J50: =SUM(J17:J48) -> 1194 | K50: =SUM(K17:K48) -> 1194 | L50: =SUM(L17:L48) -> 1178 | M50: =SUM(M17:M49) -> 1842 | N50: =SUM(N17:N49) -> 1842 | O50: =SUM(O17:O49) -> 1842 | P50: =SUM(P17:P49) -> 1842
A51: 3 | B51: KHOA CÔNG NGHỆ CƠ KHÍ | C51: 13CÐ-CK1 | D51: =LEFT(C51,FIND("-",C51,1)-1) -> 13CÐ | E51: =VLOOKUP(C51,'[1]Chi tiet theo khoa'!$C$8:$O$205,13,0) -> 10 | F51: 10 | G51: 10 | H51: =VLOOKUP(C51,'[2]TK.HSSV_T_N(10-5-17)'!$C$9:$H$229,6,0) -> 9 | I51: 9 | J51: 9 | K51: 9 | L51: 9 | M51: 0 | N51: 0 | O51: 0 | P51: 0
C52: 13CÐ-CK2 | D52: =LEFT(C52,FIND("-",C52,1)-1) -> 13CÐ | E52: =VLOOKUP(C52,'[1]Chi tiet theo khoa'!$C$8:$O$205,13,0) -> 10 | F52: 7 | G52: 6 | H52: =VLOOKUP(C52,'[2]TK.HSSV_T_N(10-5-17)'!$C$9:$H$229,6,0) -> 5 | I52: 5 | J52: 5 | K52: 5 | L52: 5 | M52: 0 | N52: 0 | O52: 0 | P52: 0
C53: 13CÐ-CK3 | D53: =LEFT(C53,FIND("-",C53,1)-1) -> 13CÐ | E53: =VLOOKUP(C53,'[1]Chi tiet theo khoa'!$C$8:$O$205,13,0) -> 23 | F53: 20 | G53: 18 | H53: =VLOOKUP(C53,'[2]TK.HSSV_T_N(10-5-17)'!$C$9:$H$229,6,0) -> 17 | I53: 17 | J53: 17 | K53: 17 | L53: 17 | M53: 0 | N53: 0 | O53: 0 | P53: 0
C54: 13CÐ-CK4 | D54: =LEFT(C54,FIND("-",C54,1)-1) -> 13CÐ | E54: =VLOOKUP(C54,'[1]Chi tiet theo khoa'!$C$8:$O$205,13,0) -> 19 | F54: 19 | G54: 18 | H54: =VLOOKUP(C54,'[2]TK.HSSV_T_N(10-5-17)'!$C$9:$H$229,6,0) -> 17 | I54: 17 | J54: 17 | K54: 17 | L54: 17 | M54: 0 | N54: 0 | O54: 0 | P54: 0
C55: 13TC-CKT | D55: =LEFT(C55,FIND("-",C55,1)-1) -> 13TC | E55: =VLOOKUP(C55,'[1]Chi tiet theo khoa'!$C$8:$O$205,13,0) -> 8 | F55: 8 | G55: 8 | H55: =VLOOKUP(C55,'[2]TK.HSSV_T_N(10-5-17)'!$C$9:$H$229,6,0) -> 8 | I55: 8 | J55: 8 | K55: 8 | L55: 8 | M55: 0 | N55: 0 | O55: 0 | P55: 0
C56: 14TCCT01 | D56: =LEFT(C56,4) -> 14TC | E56: =VLOOKUP(C56,'[1]Chi tiet theo khoa'!$C$8:$O$205,13,0) -> 26 | F56: 15 | G56: 10 | H56: =VLOOKUP(C56,'[2]TK.HSSV_T_N(10-5-17)'!$C$9:$H$229,6,0) -> 6 | I56: 6 | J56: 6 | K56: 6 | L56: 6 | M56: 0 | N56: 0 | O56: 0 | P56: 0
C57: 14TCCP01 | D57: =LEFT(C57,4) -> 14TC | E57: =VLOOKUP(C57,'[1]Chi tiet theo khoa'!$C$8:$O$205,13,0) -> 15 | F57: 14 | G57: 13 | H57: =VLOOKUP(C57,'[2]TK.HSSV_T_N(10-5-17)'!$C$9:$H$229,6,0) -> 10 | I57: 10 | J57: 10 | K57: 10 | L57: 10 | M57: 0 | N57: 0 | O57: 0 | P57: 0
C58: 14CĐCK01 | D58: 14CĐ | E58: =VLOOKUP(C58,'[1]Chi tiet theo khoa'!$C$8:$O$205,13,0) -> 68 | F58: 60 | G58: 55 | H58: =VLOOKUP(C58,'[2]TK.HSSV_T_N(10-5-17)'!$C$9:$H$229,6,0) -> 49 | I58: 49 | J58: 49 | K58: 49 | L58: 49 | M58: 0 | N58: 0 | O58: 0 | P58: 0
C59: 14CĐCK02 | D59: 14CĐ | E59: =VLOOKUP(C59,'[1]Chi tiet theo khoa'!$C$8:$O$205,13,0) -> 64 | F59: 57 | G59: 48 | H59: =VLOOKUP(C59,'[2]TK.HSSV_T_N(10-5-17)'!$C$9:$H$229,6,0) -> 46 | I59: 46 | J59: 46 | K59: 46 | L59: 46 | M59: 0 | N59: 0 | O59: 0 | P59: 0
C60: 14CĐCK03 | D60: 14CĐ | E60: =VLOOKUP(C60,'[1]Chi tiet theo khoa'!$C$8:$O$205,13,0) -> 67 | F60: 67 | G60: 60 | H60: =VLOOKUP(C60,'[2]TK.HSSV_T_N(10-5-17)'!$C$9:$H$229,6,0) -> 53 | I60: 53 | J60: 53 | K60: 53 | L60: 53 | M60: 0 | N60: 0 | O60: 0 | P60: 0
C61: 15CĐ-CĐ1 | D61: =LEFT(C61,FIND("-",C61,1)-1) -> 15CĐ | E61: 65 | F61: 65 | G61: 65 | H61: 65 | I61: 65 | J61: 65 | K61: 65 | L61: 65 | M61: 65 | N61: 65 | O61: 65 | P61: 65
C62: 15CĐ-CĐ2 | D62: =LEFT(C62,FIND("-",C62,1)-1) -> 15CĐ | E62: =VLOOKUP(C62,'[1]Chi tiet theo khoa'!$C$8:$O$205,13,0) -> 45 | F62: 45 | G62: 45 | H62: 45 | I62: 45 | J62: 45 | K62: 45 | L62: 45 | M62: 45 | N62: 45 | O62: 45 | P62: 45
C63: 15CĐ-CĐT1 | D63: =LEFT(C63,FIND("-",C63,1)-1) -> 15CĐ | E63: 64 | F63: 64 | G63: 64 | H63: 64 | I63: 64 | J63: 64 | K63: 64 | L63: 64 | M63: 64 | N63: 64 | O63: 64 | P63: 64
C64: 15CĐ-CĐT2 | D64: =LEFT(C64,FIND("-",C64,1)-1) -> 15CĐ | E64: =VLOOKUP(C64,'[1]Chi tiet theo khoa'!$C$8:$O$205,13,0) -> 39 | F64: 39 | G64: 39 | H64: 39 | I64: 39 | J64: 39 | K64: 39 | L64: 39 | M64: 39 | N64: 39 | O64: 39 | P64: 39
C65: 15CĐ-CTM1 | D65: =LEFT(C65,FIND("-",C65,1)-1) -> 15CĐ | E65: =VLOOKUP(C65,'[1]Chi tiet theo khoa'!$C$8:$O$205,13,0) -> 65 | F65: 65 | G65: 65 | H65: 65 | I65: 65 | J65: 65 | K65: 65 | L65: 65 | M65: 65 | N65: 65 | O65: 65 | P65: 65
C66: 15CĐ-CTM2 | D66: =LEFT(C66,FIND("-",C66,1)-1) -> 15CĐ | E66: =VLOOKUP(C66,'[1]Chi tiet theo khoa'!$C$8:$O$205,13,0) -> 68 | F66: 68 | G66: 68 | H66: 68 | I66: 68 | J66: 68 | K66: 68 | L66: 68 | M66: 68 | N66: 68 | O66: 68 | P66: 68
C67: 15CĐ-CTM3 | D67: =LEFT(C67,FIND("-",C67,1)-1) -> 15CĐ | E67: =VLOOKUP(C67,'[1]Chi tiet theo khoa'!$C$8:$O$205,13,0) -> 63 | F67: 63 | G67: 63 | H67: 63 | I67: 63 | J67: 63 | K67: 63 | L67: 63 | M67: 63 | N67: 63 | O67: 63 | P67: 63
C68: 15CĐ-CTM4 | D68: =LEFT(C68,FIND("-",C68,1)-1) -> 15CĐ | E68: =VLOOKUP(C68,'[1]Chi tiet theo khoa'!$C$8:$O$205,13,0) -> 65 | F68: 65 | G68: 65 | H68: 65 | I68: 65 | J68: 65 | K68: 65 | L68: 65 | M68: 65 | N68: 65 | O68: 65 | P68: 65
C69: 15CĐ-CTM5 | D69: =LEFT(C69,FIND("-",C69,1)-1) -> 15CĐ | E69: =VLOOKUP(C69,'[1]Chi tiet theo khoa'!$C$8:$O$205,13,0) -> 61 | F69: 61 | G69: 61 | H69: 61 | I69: 61 | J69: 61 | K69: 61 | L69: 61 | M69: 61 | N69: 61 | O69: 61 | P69: 61
C70: 15TN-CK | D70: =LEFT(C70,FIND("-",C70,1)-1) -> 15TN | E70: =VLOOKUP(C70,'[1]Chi tiet theo khoa'!$C$8:$O$205,13,0) -> 19 | F70: 19 | G70: 19 | H70: 19 | I70: 19 | J70: 19 | K70: 19 | L70: 0 | M70: 0 | N70: 0 | O70: 0 | P70: 0
C71: 15TCT-CK | D71: =LEFT(C71,FIND("-",C71,1)-1) -> 15TCT | E71: =VLOOKUP(C71,'[1]Chi tiet theo khoa'!$C$8:$O$205,13,0) -> 16 | F71: 16 | G71: 16 | H71: 16 | I71: 16 | J71: 16 | K71: 16 | L71: 0 | M71: 0 | N71: 0 | O71: 0 | P71: 0
B72: KHOA CÔNG NGHỆ CƠ KHÍ | C72: 15TCN-CKL | D72: =LEFT(C72,FIND("-",C72,1)-1) -> 15TCN | E72: =VLOOKUP(C72,'[1]Chi tiet theo khoa'!$C$8:$O$205,13,0) -> 53 | F72: 53 | G72: 53 | H72: 53 | I72: 53 | J72: 53 | K72: 53 | L72: 53 | M72: 53 | N72: 53 | O72: 53 | P72: 53
C73: 15CĐ-LTCK | D73: =LEFT(C73,FIND("-",C73,1)+2) -> 15CĐ-LT | E73: =VLOOKUP(C73,'[1]Chi tiet theo khoa'!$C$8:$O$205,13,0) -> 7 | F73: 7 | G73: 7 | H73: =VLOOKUP(C73,'[2]TK.HSSV_T_N(10-5-17)'!$C$9:$H$229,6,0) -> 7 | I73: 7 | J73: 7 | K73: 7 | L73: 7 | M73: 0 | N73: 0 | O73: 0 | P73: 0
C74: 16CĐ-CK1 | D74: =LEFT(C74,FIND("-",C74,1)-1) -> 16CĐ | E74: =VLOOKUP(C74,'[1]Chi tiet theo khoa'!$C$8:$O$205,13,0) -> 64 | F74: 64 | G74: 64 | H74: 59 | I74: 59 | J74: 59 | K74: 59 | L74: 59 | M74: 59 | N74: 59 | O74: 59 | P74: 59
C75: 16CĐ-CK2 | D75: =LEFT(C75,FIND("-",C75,1)-1) -> 16CĐ | E75: =VLOOKUP(C75,'[1]Chi tiet theo khoa'!$C$8:$O$205,13,0) -> 63 | F75: 63 | G75: 63 | H75: 59 | I75: 59 | J75: 59 | K75: 59 | L75: 59 | M75: 59 | N75: 59 | O75: 59 | P75: 59
C76: 16CĐ-CK3 | D76: =LEFT(C76,FIND("-",C76,1)-1) -> 16CĐ | E76: =VLOOKUP(C76,'[1]Chi tiet theo khoa'!$C$8:$O$205,13,0) -> 63 | F76: 63 | G76: 63 | H76: 59 | I76: 59 | J76: 59 | K76: 59 | L76: 59 | M76: 59 | N76: 59 | O76: 59 | P76: 59
C77: 16CĐ-CK4 | D77: =LEFT(C77,FIND("-",C77,1)-1) -> 16CĐ | E77: =VLOOKUP(C77,'[1]Chi tiet theo khoa'!$C$8:$O$205,13,0) -> 63 | F77: 63 | G77: 63 | H77: 59 | I77: 59 | J77: 59 | K77: 59 | L77: 59 | M77: 59 | N77: 59 | O77: 59 | P77: 59
C78: 16CĐ-CK5 | D78: =LEFT(C78,FIND("-",C78,1)-1) -> 16CĐ | E78: =VLOOKUP(C78,'[1]Chi tiet theo khoa'!$C$8:$O$205,13,0) -> 63 | F78: 63 | G78: 63 | H78: 59 | I78: 59 | J78: 59 | K78: 59 | L78: 59 | M78: 59 | N78: 59 | O78: 59 | P78: 59
C79: 16CĐ-CK6 | D79: =LEFT(C79,FIND("-",C79,1)-1) -> 16CĐ | E79: =VLOOKUP(C79,'[1]Chi tiet theo khoa'!$C$8:$O$205,13,0) -> 62 | F79: 62 | G79: 62 | H79: 58 | I79: 58 | J79: 58 | K79: 58 | L79: 58 | M79: 58 | N79: 58 | O79: 58 | P79: 58
C80: 16CĐ-CK7 | D80: =LEFT(C80,FIND("-",C80,1)-1) -> 16CĐ | E80: =VLOOKUP(C80,'[1]Chi tiet theo khoa'!$C$8:$O$205,13,0) -> 62 | F80: 62 | G80: 62 | H80: 58 | I80: 58 | J80: 58 | K80: 58 | L80: 58 | M80: 58 | N80: 58 | O80: 58 | P80: 58
C81: 16CĐ-CK8 | D81: =LEFT(C81,FIND("-",C81,1)-1) -> 16CĐ | E81: =VLOOKUP(C81,'[1]Chi tiet theo khoa'!$C$8:$O$205,13,0) -> 62 | F81: 62 | G81: 62 | H81: 58 | I81: 58 | J81: 58 | K81: 58 | L81: 58 | M81: 58 | N81: 58 | O81: 58 | P81: 58
C82: 16TCN-CKL | D82: =LEFT(C82,FIND("-",C82,1)-1) -> 16TCN | E82: =VLOOKUP(C82,'[1]Chi tiet theo khoa'!$C$8:$O$205,13,0) -> 52 | F82: 52 | G82: 52 | H82: 52 | I82: 52 | J82: 52 | K82: 52 | L82: 52 | M82: 52 | N82: 52 | O82: 52 | P82: 52
C83: 16CĐ-LTCK | D83: =LEFT(C83,FIND("-",C83,1)+2) -> 16CĐ-LT | E83: =VLOOKUP(C83,'[1]Chi tiet theo khoa'!$C$8:$O$205,13,0) -> 5 | F83: 5 | G83: 5 | H83: =VLOOKUP(C83,'[2]TK.HSSV_T_N(10-5-17)'!$C$9:$H$229,6,0) -> 0 | I83: 0 | J83: 0 | K83: 0 | L83: 0 | M83: 0 | N83: 0 | O83: 0 | P83: 0
C84: 17TCN | D84: 17TCN | E84: 0 | F84: 0 | G84: 0 | H84: =VLOOKUP(C84,'[2]TK.HSSV_T_N(10-5-17)'!$C$9:$H$229,6,0) -> 0 | I84: 0 | J84: 0 | K84: 0 | L84: 0 | M84: 100 | N84: 100 | O84: 100 | P84: 100
C85: 17CĐN | D85: 17CĐN | E85: 0 | F85: 0 | G85: 0 | H85: =VLOOKUP(C85,'[2]TK.HSSV_T_N(10-5-17)'!$C$9:$H$229,6,0) -> 0 | I85: 0 | J85: 0 | K85: 0 | L85: 0 | M85: 30 | N85: 30 | O85: 30 | P85: 30
C86: 17TC | D86: 17TC | E86: 0 | F86: 0 | G86: 0 | H86: =VLOOKUP(C86,'[2]TK.HSSV_T_N(10-5-17)'!$C$9:$H$229,6,0) -> 0 | I86: 0 | J86: 0 | K86: 0 | L86: 0 | M86: 50 | N86: 50 | O86: 50 | P86: 50
C87: 17CĐ | D87: 17CĐ | E87: 0 | F87: 0 | G87: 0 | H87: =VLOOKUP(C87,'[2]TK.HSSV_T_N(10-5-17)'!$C$9:$H$229,6,0) -> 0 | I87: 0 | J87: 0 | K87: 0 | L87: 0 | M87: 554 | N87: 554 | O87: 554 | P87: 554
C88: 17CĐLT | D88: 17CĐLT | E88: 0 | F88: 0 | G88: 0 | H88: =VLOOKUP(C88,'[2]TK.HSSV_T_N(10-5-17)'!$C$9:$H$229,6,0) -> 0 | I88: 0 | J88: 0 | K88: 0 | L88: 0 | M88: 19 | N88: 19 | O88: 19 | P88: 19
C89: Tổng khoa | E89: =SUM(E51:E88) -> 1499 | F89: =SUM(F51:F88) -> 1466 | G89: =SUM(G51:G88) -> 1435 | H89: =SUM(H51:H88) -> 1371 | I89: =SUM(I51:I88) -> 1371 | J89: =SUM(J51:J88) -> 1371 | K89: =SUM(K51:K88) -> 1371 | L89: =SUM(L51:L88) -> 1336 | ... P89: =SUM(P51:P88) -> 1862
A90: 4 | B90: KHOA CÔNG NGHỆ ĐIỆN - ĐIỆN TỬ | C90: 13CÐ-Ð1 | D90: =LEFT(C90,FIND("-",C90,1)-1) -> 13CÐ | E90: =VLOOKUP(C90,'[1]Chi tiet theo khoa'!$C$8:$O$205,13,0) -> 13 | F90: 13 | G90: 11 | H90: =VLOOKUP(C90,'[2]TK.HSSV_T_N(10-5-17)'!$C$9:$H$229,6,0) -> 10 | I90: 10 | J90: 10 | K90: 10 | L90: 10 | M90: 0 | N90: 0 | O90: 0 | P90: 0
C91: 13CÐ-Ð2 | D91: =LEFT(C91,FIND("-",C91,1)-1) -> 13CÐ | E91: 26 | F91: 26 | G91: 26 | H91: =VLOOKUP(C91,'[2]TK.HSSV_T_N(10-5-17)'!$C$9:$H$229,6,0) -> 26 | I91: 26 | J91: 26 | K91: 26 | L91: 26 | M91: 0 | N91: 0 | O91: 0 | P91: 0
C92: 13CÐ-Ð3 | D92: =LEFT(C92,FIND("-",C92,1)-1) -> 13CÐ | E92: =VLOOKUP(C92,'[1]Chi tiet theo khoa'!$C$8:$O$205,13,0) -> 11 | F92: 11 | G92: 10 | H92: =VLOOKUP(C92,'[2]TK.HSSV_T_N(10-5-17)'!$C$9:$H$229,6,0) -> 8 | I92: 8 | J92: 8 | K92: 8 | L92: 8 | M92: 0 | N92: 0 | O92: 0 | P92: 0
C93: 13CÐ-ÐT1 | D93: =LEFT(C93,FIND("-",C93,1)-1) -> 13CÐ | E93: =VLOOKUP(C93,'[1]Chi tiet theo khoa'!$C$8:$O$205,13,0) -> 18 | F93: 18 | G93: 17 | H93: =VLOOKUP(C93,'[2]TK.HSSV_T_N(10-5-17)'!$C$9:$H$229,6,0) -> 16 | I93: 16 | J93: 16 | K93: 16 | L93: 16 | M93: 0 | N93: 0 | O93: 0 | P93: 0
C94: 13CÐ-ÐT2 | D94: =LEFT(C94,FIND("-",C94,1)-1) -> 13CÐ | E94: =VLOOKUP(C94,'[1]Chi tiet theo khoa'!$C$8:$O$205,13,0) -> 23 | F94: 23 | G94: 20 | H94: =VLOOKUP(C94,'[2]TK.HSSV_T_N(10-5-17)'!$C$9:$H$229,6,0) -> 19 | I94: 19 | J94: 19 | K94: 19 | L94: 19 | M94: 0 | N94: 0 | O94: 0 | P94: 0
C95: 13TC-Ð1 | D95: =LEFT(C95,FIND("-",C95,1)-1) -> 13TC | E95: =VLOOKUP(C95,'[1]Chi tiet theo khoa'!$C$8:$O$205,13,0) -> 6 | F95: 6 | G95: 6 | H95: =VLOOKUP(C95,'[2]TK.HSSV_T_N(10-5-17)'!$C$9:$H$229,6,0) -> 6 | I95: 6 | J95: 6 | K95: 6 | L95: 6 | M95: 0 | N95: 0 | O95: 0 | P95: 0
C96: 13TC-ÐT | D96: =LEFT(C96,FIND("-",C96,1)-1) -> 13TC | E96: =VLOOKUP(C96,'[1]Chi tiet theo khoa'!$C$8:$O$205,13,0) -> 6 | F96: 6 | G96: 6 | H96: =VLOOKUP(C96,'[2]TK.HSSV_T_N(10-5-17)'!$C$9:$H$229,6,0) -> 5 | I96: 5 | J96: 5 | K96: 5 | L96: 5 | M96: 0 | N96: 0 | O96: 0 | P96: 0
C97: 14CĐĐC01 | D97: 14CĐ | E97: =VLOOKUP(C97,'[1]Chi tiet theo khoa'!$C$8:$O$205,13,0) -> 47 | F97: 40 | G97: 38 | H97: =VLOOKUP(C97,'[2]TK.HSSV_T_N(10-5-17)'!$C$9:$H$229,6,0) -> 37 | I97: 37 | J97: 37 | K97: 37 | L97: 37 | M97: 0 | N97: 0 | O97: 0 | P97: 0
C98: 14CĐĐC02 | D98: =LEFT(C98,4) -> 14CĐ | E98: =VLOOKUP(C98,'[1]Chi tiet theo khoa'!$C$8:$O$205,13,0) -> 44 | F98: 40 | G98: 33 | H98: =VLOOKUP(C98,'[2]TK.HSSV_T_N(10-5-17)'!$C$9:$H$229,6,0) -> 31 | I98: 31 | J98: 31 | K98: 31 | L98: 31 | M98: 0 | N98: 0 | O98: 0 | P98: 0
C99: 14CĐĐT01 | D99: 14CĐ | E99: =VLOOKUP(C99,'[1]Chi tiet theo khoa'!$C$8:$O$205,13,0) -> 46 | F99: 40 | G99: 40 | H99: =VLOOKUP(C99,'[2]TK.HSSV_T_N(10-5-17)'!$C$9:$H$229,6,0) -> 38 | I99: 38 | J99: 38 | K99: 38 | L99: 38 | M99: 0 | N99: 0 | O99: 0 | P99: 0
C100: 14CĐĐT02 | D100: 14CĐ | E100: =VLOOKUP(C100,'[1]Chi tiet theo khoa'!$C$8:$O$205,13,0) -> 52 | F100: 48 | G100: 40 | H100: =VLOOKUP(C100,'[2]TK.HSSV_T_N(10-5-17)'!$C$9:$H$229,6,0) -> 39 | I100: 39 | J100: 39 | K100: 39 | L100: 39 | M100: 0 | N100: 0 | O100: 0 | P100: 0
C101: 14TCĐC01 | D101: =LEFT(C101,4) -> 14TC | E101: =VLOOKUP(C101,'[1]Chi tiet theo khoa'!$C$8:$O$205,13,0) -> 29 | F101: 20 | G101: 17 | H101: =VLOOKUP(C101,'[2]TK.HSSV_T_N(10-5-17)'!$C$9:$H$229,6,0) -> 16 | I101: 16 | J101: 16 | K101: 16 | L101: 16 | M101: 0 | N101: 0 | O101: 0 | P101: 0
C102: 14TCĐT01 | D102: =LEFT(C102,4) -> 14TC | E102: =VLOOKUP(C102,'[1]Chi tiet theo khoa'!$C$8:$O$205,13,0) -> 0 | F102: 0 | G102: 0 | H102: =VLOOKUP(C102,'[2]TK.HSSV_T_N(10-5-17)'!$C$9:$H$229,6,0) -> 0 | I102: 0 | J102: 0 | K102: 0 | L102: 0 | M102: 0 | N102: 0 | O102: 0 | P102: 0
...
